BEGIN:VCALENDAR
VERSION:2.0
PRODID:-//wp-events-plugin.com//7.2.3.1//EN
TZID:America/New_York
X-WR-TIMEZONE:America/New_York
BEGIN:VEVENT
UID:170@steeltonpa.com
DTSTART;TZID=America/New_York:20260625T173000
DTEND;TZID=America/New_York:20260625T183000
DTSTAMP:20260408T203126Z
URL:http://www.steeltonpa.com/events/adult-cooking-class-community-garden/
SUMMARY:Adult Cooking Class @ Community Garden
DESCRIPTION:Join us for an evening of garden‑fresh cooking and seasonal d
 ishes. Bring your favorite summer recipes\, swap ideas\, and enjoy wholeso
 me food as we celebrate the season and explore healthy eating from the gro
 und up at the Mohn Street Park Community Garden!
ATTACH;FMTTYPE=image/jpeg:http://www.steeltonpa.com/wp-content/uploads/202
 6/04/Adult-Cooking-Class.jpg
LOCATION:Mohn Street Park\, S 3rd St &amp\; Mohn St\, Steelton\, PA\, 17113
 \, United States
X-APPLE-STRUCTURED-LOCATION;VALUE=URI;X-ADDRESS=S 3rd St & Mohn St\, Steelt
 on\, PA\, 17113\, United States;X-APPLE-RADIUS=100;X-TITLE=Mohn Street Par
 k:geo:0,0
END:VEVENT
BEGIN:VTIMEZONE
TZID:America/New_York
X-LIC-LOCATION:America/New_York
BEGIN:DAYLIGHT
DTSTART:20260308T030000
TZOFFSETFROM:-0500
TZOFFSETTO:-0400
TZNAME:EDT
END:DAYLIGHT
END:VTIMEZONE
END:VCALENDAR