BEGIN:VCALENDAR
VERSION:2.0
PRODID:-//wp-events-plugin.com//7.2.3.1//EN
TZID:America/New_York
X-WR-TIMEZONE:America/New_York
BEGIN:VEVENT
UID:137@steeltonpa.com
DTSTART;TZID=America/New_York:20260502T100000
DTEND;TZID=America/New_York:20260502T120000
DTSTAMP:20260226T184849Z
URL:http://www.steeltonpa.com/events/community-garden-kickoff/
SUMMARY:Community Garden Kickoff
DESCRIPTION:We are kicking off 2026 with our annual gathering to showcase t
 he garden\, plant seeds\, mingle with neighbors\, exchange ideas &amp\; ti
 ps\, plan for the year\, and enjoy the outdoors. Stop by the garden to lea
 rn more about this FREE program and reserve your plot to start growing wit
 h us!
ATTACH;FMTTYPE=image/jpeg:http://www.steeltonpa.com/wp-content/uploads/202
 6/02/2026-Garden-Kickoff-2.png
LOCATION:Mohn Street Park\, S 3rd St &amp\; Mohn St\, Steelton\, PA\, 17113
 \, United States
X-APPLE-STRUCTURED-LOCATION;VALUE=URI;X-ADDRESS=S 3rd St & Mohn St\, Steelt
 on\, PA\, 17113\, United States;X-APPLE-RADIUS=100;X-TITLE=Mohn Street Par
 k:geo:0,0
END:VEVENT
BEGIN:VTIMEZONE
TZID:America/New_York
X-LIC-LOCATION:America/New_York
BEGIN:DAYLIGHT
DTSTART:20260308T030000
TZOFFSETFROM:-0500
TZOFFSETTO:-0400
TZNAME:EDT
END:DAYLIGHT
END:VTIMEZONE
END:VCALENDAR