BEGIN:VCALENDAR
VERSION:2.0
PRODID:-//wp-events-plugin.com//7.2.3.1//EN
TZID:America/New_York
X-WR-TIMEZONE:America/New_York
BEGIN:VEVENT
UID:171@steeltonpa.com
DTSTART;TZID=America/New_York:20260425T110000
DTEND;TZID=America/New_York:20261107T120000
DTSTAMP:20260408T203633Z
URL:http://www.steeltonpa.com/events/community-garden-workday/
SUMMARY:Community Garden Workday
DESCRIPTION:Join us at the Mohn Street Park community garden to learn more 
 about this FREE program and help our team plant\, seed\, clean\, learn\, a
 nd maintain the space.
LOCATION:Mohn Street Park\, S 3rd St &amp\; Mohn St\, Steelton\, PA\, 17113
 \, United States
X-APPLE-STRUCTURED-LOCATION;VALUE=URI;X-ADDRESS=S 3rd St & Mohn St\, Steelt
 on\, PA\, 17113\, United States;X-APPLE-RADIUS=100;X-TITLE=Mohn Street Par
 k:geo:0,0
END:VEVENT
BEGIN:VTIMEZONE
TZID:America/New_York
X-LIC-LOCATION:America/New_York
BEGIN:DAYLIGHT
DTSTART:20260308T030000
TZOFFSETFROM:-0500
TZOFFSETTO:-0400
TZNAME:EDT
END:DAYLIGHT
BEGIN:STANDARD
DTSTART:20261101T010000
TZOFFSETFROM:-0400
TZOFFSETTO:-0500
TZNAME:EST
END:STANDARD
END:VTIMEZONE
END:VCALENDAR