BEGIN:VCALENDAR
VERSION:2.0
PRODID:-//wp-events-plugin.com//7.2.3.1//EN
TZID:America/New_York
X-WR-TIMEZONE:America/New_York
BEGIN:VEVENT
UID:76@steeltonpa.com
DTSTART;TZID=America/New_York:20260212T180000
DTEND;TZID=America/New_York:20261210T190000
DTSTAMP:20260202T191714Z
URL:http://www.steeltonpa.com/events/finance-pension-committee-meeting/
SUMMARY:Finance & Pension Committee Meeting
DESCRIPTION:The Finance and Pension Committee makes recommendations to the 
 Council on the financial matters of the Borough.
LOCATION:Borough of Steelton Frederick Douglas Municipal Building\, 123 N F
 ront St\, Steelton\, Pennsylvania\, 17113\, United States
X-APPLE-STRUCTURED-LOCATION;VALUE=URI;X-ADDRESS=123 N Front St\, Steelton\,
  Pennsylvania\, 17113\, United States;X-APPLE-RADIUS=100;X-TITLE=Borough o
 f Steelton Frederick Douglas Municipal Building:geo:0,0
END:VEVENT
BEGIN:VTIMEZONE
TZID:America/New_York
X-LIC-LOCATION:America/New_York
BEGIN:STANDARD
DTSTART:20251102T010000
TZOFFSETFROM:-0400
TZOFFSETTO:-0500
TZNAME:EST
END:STANDARD
BEGIN:DAYLIGHT
DTSTART:20260308T030000
TZOFFSETFROM:-0500
TZOFFSETTO:-0400
TZNAME:EDT
END:DAYLIGHT
BEGIN:STANDARD
DTSTART:20261101T010000
TZOFFSETFROM:-0400
TZOFFSETTO:-0500
TZNAME:EST
END:STANDARD
END:VTIMEZONE
END:VCALENDAR