BEGIN:VCALENDAR
VERSION:2.0
PRODID:-//wp-events-plugin.com//7.2.3.1//EN
TZID:America/New_York
X-WR-TIMEZONE:America/New_York
BEGIN:VEVENT
UID:169@steeltonpa.com
DTSTART;TZID=America/New_York:20260604T173000
DTEND;TZID=America/New_York:20260604T183000
DTSTAMP:20260408T202905Z
URL:http://www.steeltonpa.com/events/kids-cooking-class-community-garden/
SUMMARY:Kids Cooking Class @ Community Garden
DESCRIPTION:Bring your children down to the Mohn Street Park Community Gard
 en for this FREE event! We’ll explore how fruits and vegetables grow\, l
 earn how these foods fuel our bodies\, and have fun with games and tasty a
 ctivities that show just how delicious healthy eating can be.
ATTACH;FMTTYPE=image/jpeg:http://www.steeltonpa.com/wp-content/uploads/202
 6/04/Kids-Cooking-Class.jpg
LOCATION:Mohn Street Park\, S 3rd St &amp\; Mohn St\, Steelton\, PA\, 17113
 \, United States
X-APPLE-STRUCTURED-LOCATION;VALUE=URI;X-ADDRESS=S 3rd St & Mohn St\, Steelt
 on\, PA\, 17113\, United States;X-APPLE-RADIUS=100;X-TITLE=Mohn Street Par
 k:geo:0,0
END:VEVENT
BEGIN:VTIMEZONE
TZID:America/New_York
X-LIC-LOCATION:America/New_York
BEGIN:DAYLIGHT
DTSTART:20260308T030000
TZOFFSETFROM:-0500
TZOFFSETTO:-0400
TZNAME:EDT
END:DAYLIGHT
END:VTIMEZONE
END:VCALENDAR