BEGIN:VCALENDAR
VERSION:2.0
PRODID:-//wp-events-plugin.com//7.2.3.1//EN
TZID:America/New_York
X-WR-TIMEZONE:America/New_York
BEGIN:VEVENT
UID:135@steeltonpa.com
DTSTART;TZID=America/New_York:20260804T180000
DTEND;TZID=America/New_York:20260804T200000
DTSTAMP:20260205T182851Z
URL:http://www.steeltonpa.com/events/national-night-out-2026/
SUMMARY:National Night Out 2026
DESCRIPTION:This year’s event will take place at Steel-High’s football 
 field from 6-8 PM on Tue\, 8/4
ATTACH;FMTTYPE=image/jpeg:http://www.steeltonpa.com/wp-content/uploads/202
 6/02/IMG_6883.jpeg
LOCATION:War Veterans Memorial Field\, S 6th St &amp\; Primrose Ave\, Steel
 ton\, PA\, 17113\, United States
X-APPLE-STRUCTURED-LOCATION;VALUE=URI;X-ADDRESS=S 6th St & Primrose Ave\, S
 teelton\, PA\, 17113\, United States;X-APPLE-RADIUS=100;X-TITLE=War Vetera
 ns Memorial Field:geo:0,0
END:VEVENT
BEGIN:VTIMEZONE
TZID:America/New_York
X-LIC-LOCATION:America/New_York
BEGIN:DAYLIGHT
DTSTART:20260308T030000
TZOFFSETFROM:-0500
TZOFFSETTO:-0400
TZNAME:EDT
END:DAYLIGHT
END:VTIMEZONE
END:VCALENDAR